BEGIN:VCALENDAR
VERSION:2.0
PRODID:-//Yii2 Events//EN
BEGIN:VEVENT
UID:69e6e974a65b9@drustvo-muc.si.eventure.si
DTSTAMP:20260421T030524Z
DTSTART:20251019T180000
DTEND:20251019T190000
SUMMARY:BOGU HVALA - psihomagična predstava
DESCRIPTION:Izkušite BOGU HVALA\, psihomagično predstavo\, ki spodbuja razmislek o življenju in kolektivnem obstoju\, razkrivajoč nevidne niti naših poti.
LOCATION:Kulturni dom Žalec\, Slovenia
URL:https://drustvo-muc.si.eventure.si/sl/event/bogu-hvala-psihomagicna-predstava
END:VEVENT
END:VCALENDAR
