BEGIN:VCALENDAR
VERSION:2.0
PRODID:-//Yii2 Events//EN
BEGIN:VEVENT
UID:69e7b137bfc3c@drustvo-muc.si.eventure.si
DTSTAMP:20260421T171743Z
DTSTART:20250514T180000
DTEND:20250514T190000
SUMMARY:🏁 BOBNARSKI KROG 🏁
DESCRIPTION:Pridružite se Bobnarskemu krogu in odkrijte moč skupinskega bobnanja ter šamanskega potovanja. Ustvarite ritem\, povezujte se z naravo in doživite sprostitev ter izražanje skozi zvok in gib. Ne glede na vašo izkušnjo\, to je prostor za vsakogar.
LOCATION:Vinjole\, Lucija\, Portorož\, Slovenia
URL:https://drustvo-muc.si.eventure.si/sl/event/bobnarski-krog
END:VEVENT
END:VCALENDAR
