BEGIN:VCALENDAR
VERSION:2.0
PRODID:-//Yii2 Events//EN
BEGIN:VEVENT
UID:69e7e28016005@drustvo-muc.si.eventure.si
DTSTAMP:20260421T204800Z
DTSTART:20241115T180000
DTEND:20241115T190000
SUMMARY:Bobnarski krog in Šamansko potovanje
DESCRIPTION:
LOCATION:Vrhnika\, Slovenia
URL:https://drustvo-muc.si.eventure.si/sl/event/bobnarski-krog-in-samansko-potovanje
END:VEVENT
END:VCALENDAR
