BEGIN:VCALENDAR
VERSION:2.0
PRODID:-//Yii2 Events//EN
BEGIN:VEVENT
UID:69e7cd64a0fc3@drustvo-muc.si.eventure.si
DTSTAMP:20260421T191756Z
DTSTART:20250105T100000
DTEND:20250105T110000
SUMMARY:Študij Ritma Na Šamanskih Bobnih
DESCRIPTION:
LOCATION:Orfej\, Vrhnika\, Slovenia
URL:https://drustvo-muc.si.eventure.si/sl/event/%C5%A1tudij-ritma-na-%C5%A1amanskih-bobnih
END:VEVENT
END:VCALENDAR
