BEGIN:VCALENDAR
VERSION:2.0
PRODID:-//Yii2 Events//EN
BEGIN:VEVENT
UID:69e7574b03402@drustvo-muc.si.eventure.si
DTSTAMP:20260421T105403Z
DTSTART:20250815T190000
DTEND:20250815T200000
SUMMARY:Zvočna terapija - Preddvor jezero Črnava - Sveti prostor srca
DESCRIPTION:Pridruži se nam na posebni izkušnji zvočne terapije 15. avgusta ob jezeru Črnava. Poveži se z naravo in poglobi svoj sveti prostor srca.
LOCATION:Preddvor ob jezeru Črnava\, Slovenia
URL:https://drustvo-muc.si.eventure.si/hr/event/zvocna-terapija-preddvor-jezero-crnava-sveti-prostor-srca
END:VEVENT
END:VCALENDAR
