BEGIN:VCALENDAR
VERSION:2.0
PRODID:-//Yii2 Events//EN
BEGIN:VEVENT
UID:69e767152629c@drustvo-muc.si.eventure.si
DTSTAMP:20260421T120125Z
DTSTART:20250516T200000
DTEND:20250516T210000
SUMMARY:🎶 Zvočna kopel z gongi 🌊
DESCRIPTION:Pridružite se zvočni kopeli z gongi in odkrijte tehnike sproščanja ter meditacije\, ki vas popeljejo v globoko sprostitev in stik s seboj. Vodi Luka Brinovec.
LOCATION:AIA - Mladinski center Mengeš\, Slovenska cesta 28\, Slovenia
URL:https://drustvo-muc.si.eventure.si/hr/event/zvocna-kopel-z-gongi
END:VEVENT
END:VCALENDAR
