BEGIN:VCALENDAR
VERSION:2.0
PRODID:-//Yii2 Events//EN
BEGIN:VEVENT
UID:69e7757eb5fac@drustvo-muc.si.eventure.si
DTSTAMP:20260421T130254Z
DTSTART:20250902T200000
DTEND:20250902T213000
SUMMARY:Zvočna kopel s tibetanskim gongom
DESCRIPTION:Zvočna meditacija z tibetanskimi gongi odpira energetske poti in spodbuja samozdravljenje.
LOCATION:Center Chakana\, Center Chakana\, Cvetkova ulica 33\, Ljubljana\, Slovenia
URL:https://drustvo-muc.si.eventure.si/hr/event/zvocna-kopel-s-tibetanskim-gongom
END:VEVENT
END:VCALENDAR
