BEGIN:VCALENDAR
VERSION:2.0
PRODID:-//Yii2 Events//EN
BEGIN:VEVENT
UID:69e7b51925455@drustvo-muc.si.eventure.si
DTSTAMP:20260421T173417Z
DTSTART:20250212T190000
DTEND:20250212T200000
SUMMARY:Zvočni Obred Ob Polni Luni
DESCRIPTION:
LOCATION:VRBJE\, Slovenia
URL:https://drustvo-muc.si.eventure.si/hr/event/zvo%C4%8Dni-obred-ob-polni-luni-227
END:VEVENT
END:VCALENDAR
