BEGIN:VCALENDAR
VERSION:2.0
PRODID:-//Yii2 Events//EN
BEGIN:VEVENT
UID:69e7b4ede8a47@drustvo-muc.si.eventure.si
DTSTAMP:20260421T173333Z
DTSTART:20250104T100000
DTEND:20250104T110000
SUMMARY:Zavestno V Novo Leto
DESCRIPTION:
LOCATION:Višja Vibracija Ljubljana\, Slovenia
URL:https://drustvo-muc.si.eventure.si/hr/event/zavestno-v-novo-leto-215
END:VEVENT
END:VCALENDAR
