BEGIN:VCALENDAR
VERSION:2.0
PRODID:-//Yii2 Events//EN
BEGIN:VEVENT
UID:69e7ba2727670@drustvo-muc.si.eventure.si
DTSTAMP:20260421T175551Z
DTSTART:20251203T150056
DTEND:20251203T160056
SUMMARY:Zakladjedelnica - Ustvarjalno Mesto za Majhne in Velike Zaklade 💎✨
DESCRIPTION:Dobrodošli v Zakladjedelnico\, ustvarjalno mesto za vse starosti vsako sredo v MC\, kjer ustvarjamo majhne zaklade za velike namene.
LOCATION:MC žalec\, Slovenia
URL:https://drustvo-muc.si.eventure.si/hr/event/zakladjedelnica-ustvarjalno-mesto-za-majhne-in-velike-zaklade-3
END:VEVENT
END:VCALENDAR
