BEGIN:VCALENDAR
VERSION:2.0
PRODID:-//Yii2 Events//EN
BEGIN:VEVENT
UID:69e7ce807f52c@drustvo-muc.si.eventure.si
DTSTAMP:20260421T192240Z
DTSTART:20241117T200000
DTEND:20241117T210000
SUMMARY:VRACH live na festivalu šumskih plodova v Istri na Hrvaškem
DESCRIPTION:
LOCATION:Slovenia
URL:https://drustvo-muc.si.eventure.si/hr/event/vrach-live-na-festivalu-sumskih-plodova-v-istri-na-hrvaskem
END:VEVENT
END:VCALENDAR
