BEGIN:VCALENDAR
VERSION:2.0
PRODID:-//Yii2 Events//EN
BEGIN:VEVENT
UID:69e6ea206382f@drustvo-muc.si.eventure.si
DTSTAMP:20260421T030816Z
DTSTART:20251123T120000
DTEND:20251123T130000
SUMMARY:🎉 Vrač Močera na Festivalu Šumskih Plodova 🍂
DESCRIPTION:Pridružite se nam na festivalu šumskih plodov z Vrach Mochera. Uživajte v koncertih in delavnicah od 12. do 18. ure in praznujte naravo.
LOCATION:Slovenia
URL:https://drustvo-muc.si.eventure.si/hr/event/vrac-mocera-na-festivalu-sumskih-plodova
END:VEVENT
END:VCALENDAR
