BEGIN:VCALENDAR
VERSION:2.0
PRODID:-//Yii2 Events//EN
BEGIN:VEVENT
UID:69e746a210c67@drustvo-muc.si.eventure.si
DTSTAMP:20260421T094258Z
DTSTART:20251010T160000
DTEND:20251012T140000
SUMMARY:VIKEND RETREAT ZA ŽENSKE
DESCRIPTION:Pridruži se vikendu za ženske na Domačiji Tešnak od 10. do 12. oktobra. Poskrbi za svoje notranje ravnovesje in mir.
LOCATION:Domačija Tešnak\, Hotavlje 17\, Gorenja vas\, Slovenia
URL:https://drustvo-muc.si.eventure.si/hr/event/vikend-retreat-za-zenske
END:VEVENT
END:VCALENDAR
