BEGIN:VCALENDAR
VERSION:2.0
PRODID:-//Yii2 Events//EN
BEGIN:VEVENT
UID:69e77875e3355@drustvo-muc.si.eventure.si
DTSTAMP:20260421T131533Z
DTSTART:20250812T190000
DTEND:20250812T200000
SUMMARY:Vibracije gongov v Domžalah - zvočna kopel 🌊🎶 + ognjeni krog 🔥✨
DESCRIPTION:Pridružite se magični zvočni kopeli z gongi v Domžalah in delite svoje zgodbe ob ognju.
LOCATION:lokacija ob ognjišču \, Park Martina Krpana Domžale\, Slovenia
URL:https://drustvo-muc.si.eventure.si/hr/event/vibracije-gongov-v-domzalah-zvocna-kopel-ognjeni-krog
END:VEVENT
END:VCALENDAR
