BEGIN:VCALENDAR
VERSION:2.0
PRODID:-//Yii2 Events//EN
BEGIN:VEVENT
UID:69e72c7535387@drustvo-muc.si.eventure.si
DTSTAMP:20260421T075117Z
DTSTART:20250410T180000
DTEND:20250410T193000
SUMMARY:Ven iz okvirov - Srčna gong kopel Tolmin
DESCRIPTION:Raztopite notranje ovire s Srčno Gong Kopeljo 'Ven iz okvirov'. Sprostitev\, regeneracija in zvočno potovanje za osvoboditev omejitev in preboj v novo svobodo.
LOCATION:Tornijeva dvorana\, KS Tolmin\, Rutarjeva ulica 5\, Slovenia
URL:https://drustvo-muc.si.eventure.si/hr/event/ven-iz-okvirov-srcna-gong-kopel-tolmin
END:VEVENT
END:VCALENDAR
