BEGIN:VCALENDAR
VERSION:2.0
PRODID:-//Yii2 Events//EN
BEGIN:VEVENT
UID:69e763312b853@drustvo-muc.si.eventure.si
DTSTAMP:20260421T114449Z
DTSTART:20251025T143000
DTEND:20251025T220000
SUMMARY:Temple: Awakening in Presence (25. 10. Ljubljana\, Slovenia)
DESCRIPTION:Pridružite se nam 25. oktobra v Ljubljani na delavnici 'Temple: Awakening in Presence'. Prostor za osvojeno intimo in prisotnost.
LOCATION:točna lokacija bo znana naknadno\, Slovenia
URL:https://drustvo-muc.si.eventure.si/hr/event/temple-awakening-in-presence-25-10-ljubljana-slovenia
END:VEVENT
END:VCALENDAR
