BEGIN:VCALENDAR
VERSION:2.0
PRODID:-//Yii2 Events//EN
BEGIN:VEVENT
UID:69e7445172ea2@drustvo-muc.si.eventure.si
DTSTAMP:20260421T093305Z
DTSTART:20251013T190000
DTEND:20251013T200000
SUMMARY:Taoistična vaja čustvene regulacije
DESCRIPTION:Pridružite se naši spletni taoistični vaji za čustveno regulacijo in detoks. Odkrijte zdravilno moč zvoka.
LOCATION:Spletni događaj
URL:https://drustvo-muc.si.eventure.si/hr/event/taoisticna-vaja-custvene-regulacije-2
END:VEVENT
END:VCALENDAR
