BEGIN:VCALENDAR
VERSION:2.0
PRODID:-//Yii2 Events//EN
BEGIN:VEVENT
UID:69e75c068487f@drustvo-muc.si.eventure.si
DTSTAMP:20260421T111414Z
DTSTART:20251103T190000
DTEND:20251103T193000
SUMMARY:Taoistična masaža prsti
DESCRIPTION:Ponovno se poveži s sabo preko taoistične masaže prsi. Sprosti napetosti in najdi notranji mir.
LOCATION:Spletni događaj
URL:https://drustvo-muc.si.eventure.si/hr/event/taoisticna-masaza-prsti
END:VEVENT
END:VCALENDAR
