BEGIN:VCALENDAR
VERSION:2.0
PRODID:-//Yii2 Events//EN
BEGIN:VEVENT
UID:69e7cecd3548c@drustvo-muc.si.eventure.si
DTSTAMP:20260421T192357Z
DTSTART:20241124T150000
DTEND:20241125T010000
SUMMARY:Srečanje v živo: Vabilo IND/ŠND družin iz okolice Maribora in drugi
DESCRIPTION:Pridružite se nam na nepozabnem družinskem izletu v Mariboru\, kjer se boste srečali z drugimi družinami\, delili izkušnje in raziskovali naravo. Uživajte v igri\, okusni hrani in prijetnem druženju!
LOCATION:Donačka Gora\, Donačka Gora\, Lada Center\, Slovenia
URL:https://drustvo-muc.si.eventure.si/hr/event/srecanje-v-zivo-vabilo-indsnd-druzin-iz-okolice-maribora-in-drugi
END:VEVENT
END:VCALENDAR
