BEGIN:VCALENDAR
VERSION:2.0
PRODID:-//Yii2 Events//EN
BEGIN:VEVENT
UID:69e718edc2038@drustvo-muc.si.eventure.si
DTSTAMP:20260421T062757Z
DTSTART:20250210T173000
DTEND:20250210T203000
SUMMARY:Srčni Gong Rebirthing Ljubljana
DESCRIPTION:Srčni Gong Rebirthing Maja in Boštjan te vabita na transformacijsko delavnico Srčni Gong Rebirthing. Združili smo moči in dodali zavestnemu dihu (rebirthing) še podporo z gongi\, šamanskimi bobni in drugimi holističnimi instrumenti. Delavnica pomaga sprostiti blokade\, izboljšati energijsko pretočnost in doseči globlji stik s sabo. Delavnica traja 3h.
LOCATION:Hruševska cesta 74\, Slovenia
URL:https://drustvo-muc.si.eventure.si/hr/event/srcni-gong-rebirthing-ljubljana-2
END:VEVENT
END:VCALENDAR
