BEGIN:VCALENDAR
VERSION:2.0
PRODID:-//Yii2 Events//EN
BEGIN:VEVENT
UID:69e6f5bdebc54@drustvo-muc.si.eventure.si
DTSTAMP:20260421T035749Z
DTSTART:20250314T180000
DTEND:20250314T193000
SUMMARY:Srčna Gong Kopel - Telo\, moj tempelj TOLMIN 14.3.
DESCRIPTION:Telo je tvoj tempelj. Na Srčnih gong kopelih ta mesec odkrivamo globoko povezavo s telesom skozi zvok\, dih in prisotnost. Prisluhni sebi!
LOCATION:Tornijeva dvorana TOLMIN\, Rutarjeva ulica 5\, Slovenia
URL:https://drustvo-muc.si.eventure.si/hr/event/srcna-gong-kopel-telo-moj-tempelj-tolmin-143
END:VEVENT
END:VCALENDAR
