BEGIN:VCALENDAR
VERSION:2.0
PRODID:-//Yii2 Events//EN
BEGIN:VEVENT
UID:69e729e953b2a@drustvo-muc.si.eventure.si
DTSTAMP:20260421T074025Z
DTSTART:20250805T190000
DTEND:20250805T203000
SUMMARY:Srčna gong kopel med polji sivke 
DESCRIPTION:Pridružite se Srčni gong kopeli med polji sivke 5. avgusta 2025. Relax in pomirjujočih zvokih v naravi.
LOCATION:Vilalavanda Lokavec\, Lokavec\, Slovenia
URL:https://drustvo-muc.si.eventure.si/hr/event/srcna-gong-kopel-med-polji-sivke
END:VEVENT
END:VCALENDAR
