BEGIN:VCALENDAR
VERSION:2.0
PRODID:-//Yii2 Events//EN
BEGIN:VEVENT
UID:69e72a0c6cc7f@drustvo-muc.si.eventure.si
DTSTAMP:20260421T074100Z
DTSTART:20260313T190000
DTEND:20260313T203000
SUMMARY:Srčna gong kopel - DOVOLIM SI / Tolmin
DESCRIPTION:
LOCATION:Tornijeva dvorana\, Rutarjeva 5\, Tolmin\, slo
URL:https://drustvo-muc.si.eventure.si/hr/event/srcna-gong-kopel-dovolim-si-tolmin
END:VEVENT
END:VCALENDAR
