BEGIN:VCALENDAR
VERSION:2.0
PRODID:-//Yii2 Events//EN
BEGIN:VEVENT
UID:69e72a105603a@drustvo-muc.si.eventure.si
DTSTAMP:20260421T074104Z
DTSTART:20260327T190000
DTEND:20260327T203000
SUMMARY:Srčna Gong Kopel -  DOVOLIM SI / Kromberk 
DESCRIPTION:Pridružite se Srčni Gong Kopeli DOVILIM SI  v Kromberku 27.marec. Doživite globoko sprostitev in zdravilne vibracije.
LOCATION:KS KROMBERK\, Ulica Vinka Vodopivca 90\, Kromberk\, Nova Gorica\, Slovenia
URL:https://drustvo-muc.si.eventure.si/hr/event/srcna-gong-kopel-dovolim-si-kromberk-2
END:VEVENT
END:VCALENDAR
