BEGIN:VCALENDAR
VERSION:2.0
PRODID:-//Yii2 Events//EN
BEGIN:VEVENT
UID:69e72c5d7c1ac@drustvo-muc.si.eventure.si
DTSTAMP:20260421T075053Z
DTSTART:20260318T180000
DTEND:20260318T193000
SUMMARY:Srčna gong kopel - DOVOLIM SI / Ajdovščina
DESCRIPTION:Pridruži se Srčni Gong Kopeli v Ajdovščini 18.marca. Doživi harmonijo\, sprostitev in zdravilne vibracije za osebno rast.
LOCATION:Hiša mladih\,  Cesta IV. prekomorske 61a\, Ajdovščina\, Slovenia
URL:https://drustvo-muc.si.eventure.si/hr/event/srcna-gong-kopel-dovolim-si-ajdovscina
END:VEVENT
END:VCALENDAR
