BEGIN:VCALENDAR
VERSION:2.0
PRODID:-//Yii2 Events//EN
BEGIN:VEVENT
UID:69e9fb67c9d15@drustvo-muc.si.eventure.si
DTSTAMP:20260423T105847Z
DTSTART:20251010T173000
DTEND:20251010T183000
SUMMARY:Spoznavanje osnov Qigonga in samoozdravitvenih procesov
DESCRIPTION:Spoznajte osnove Qigonga in samoozdravitvenih procesov. Pridružite se nam pri spoznavanju svojih potencialov in učenju praktičnih tehnik za dobro počutje.
LOCATION:Studio Ritual\, Cesta talcev 8\, 1230 Domžale\, Slovenia
URL:https://drustvo-muc.si.eventure.si/hr/event/spoznavanje-osnov-qigonga-in-samoozdravitvenih-procesov
END:VEVENT
END:VCALENDAR
