BEGIN:VCALENDAR
VERSION:2.0
PRODID:-//Yii2 Events//EN
BEGIN:VEVENT
UID:69e7250402bcf@drustvo-muc.si.eventure.si
DTSTAMP:20260421T071932Z
DTSTART:20250301T100000
DTEND:20250301T150000
SUMMARY:Spoznavanje in izdelava run
DESCRIPTION:Ustvarjalnica Spoznavanje in izdelava run Teoretični in praktični del\, kjer si bo vsak udeleženec izdelal runski komplet\, amuletov in runskih zapisov\, ter praktični prikaz branja iz run
LOCATION:Lokavec \, Lokavec 202d\, Slovenia
URL:https://drustvo-muc.si.eventure.si/hr/event/spoznavanje-in-izdelava-run
END:VEVENT
END:VCALENDAR
