BEGIN:VCALENDAR
VERSION:2.0
PRODID:-//Yii2 Events//EN
BEGIN:VEVENT
UID:69e790cfc2c78@drustvo-muc.si.eventure.si
DTSTAMP:20260421T145927Z
DTSTART:20250519T160000
DTEND:20250519T170000
SUMMARY:Spoznajmo otrokove in človekove pravice! 🌍👶✨
DESCRIPTION:Pridružite se nam na spletnem webinarju o otrokovih in človekovih pravicah\, ki bo 19. maja 2025 ob 16. uri. Spoznajte pomembnost teh pravic skozi interaktivno izkušnjo za otroke in starše ter izboljšajte razumevanje v naši skupnosti.
LOCATION:Spletni događaj
URL:https://drustvo-muc.si.eventure.si/hr/event/spoznajmo-otrokove-in-clovekove-pravice
END:VEVENT
END:VCALENDAR
