BEGIN:VCALENDAR
VERSION:2.0
PRODID:-//Yii2 Events//EN
BEGIN:VEVENT
UID:69e725bfa1c2d@drustvo-muc.si.eventure.si
DTSTAMP:20260421T072239Z
DTSTART:20260522T183000
DTEND:20260522T193000
SUMMARY:Shamanika Kreativa - iZbor trenutka
DESCRIPTION:Pridruži se živemu zboru Shamanika Kreativa za transformativno zvočno potovanje\, ustvarjanje svetega prostora skupaj s petjem in zvokom. Za polno doživljanje življenja.
LOCATION:Vrhnika\, Slovenia
URL:https://drustvo-muc.si.eventure.si/hr/event/shamanika-kreativa-izbor-trenutka-4
END:VEVENT
END:VCALENDAR
