BEGIN:VCALENDAR
VERSION:2.0
PRODID:-//Yii2 Events//EN
BEGIN:VEVENT
UID:69e6e9f70f354@drustvo-muc.si.eventure.si
DTSTAMP:20260421T030735Z
DTSTART:20250708T180000
DTEND:20250708T190000
SUMMARY:🎶 Redna Brezplačna bobnarska delavnica in krog 🥁
DESCRIPTION:Pridružite se naši brezplačni bobnarski delavnici in krogu! Primerna za vse starosti in nivoje\, doživite ritem in skupnost.
LOCATION:MC Hotel Žalec\, Slovenia
URL:https://drustvo-muc.si.eventure.si/hr/event/redna-brezplacna-bobnarska-delavnica-in-krog
END:VEVENT
END:VCALENDAR
