BEGIN:VCALENDAR
VERSION:2.0
PRODID:-//Yii2 Events//EN
BEGIN:VEVENT
UID:69e762a0332e4@drustvo-muc.si.eventure.si
DTSTAMP:20260421T114224Z
DTSTART:20250819T180054
DTEND:20250819T190054
SUMMARY:🎶 Redna Brezplačna bobnarska delavnica in krog 🥁
DESCRIPTION:Pridružite se brezplačni bobnarski delavnici in krogu ter raziskujte ritme\, tehnike in ustvarjalnost. Primerno za vse ravni!
LOCATION:MC Hotel Žalec\, Slovenia
URL:https://drustvo-muc.si.eventure.si/hr/event/redna-brezplacna-bobnarska-delavnica-in-krog-88
END:VEVENT
END:VCALENDAR
