BEGIN:VCALENDAR
VERSION:2.0
PRODID:-//Yii2 Events//EN
BEGIN:VEVENT
UID:69e6ea208059f@drustvo-muc.si.eventure.si
DTSTAMP:20260421T030816Z
DTSTART:20250624T180000
DTEND:20250624T190000
SUMMARY:🎉 Redna Brezplačna bobnarska delavnica in krog 🥁
DESCRIPTION:Pridružite se brezplačni bobnarski delavnici z Žigo\, kjer se učimo ritem in skupinsko igranje.
LOCATION:MC Hotel Žalec\, Slovenia
URL:https://drustvo-muc.si.eventure.si/hr/event/redna-brezplacna-bobnarska-delavnica-in-krog-5
END:VEVENT
END:VCALENDAR
