BEGIN:VCALENDAR
VERSION:2.0
PRODID:-//Yii2 Events//EN
BEGIN:VEVENT
UID:69e76298987aa@drustvo-muc.si.eventure.si
DTSTAMP:20260421T114216Z
DTSTART:20250916T180010
DTEND:20250916T190010
SUMMARY:🎶 Redna Brezplačna bobnarska delavnica in krog 🥁
DESCRIPTION:Pridružite se brezplačni bobnarski delavnici in krogu ter raziskujte ritme\, tehnike in ustvarjalnost. Primerno za vse ravni!
LOCATION:MC Hotel Žalec\, Slovenia
URL:https://drustvo-muc.si.eventure.si/hr/event/redna-brezplacna-bobnarska-delavnica-in-krog-22
END:VEVENT
END:VCALENDAR
