BEGIN:VCALENDAR
VERSION:2.0
PRODID:-//Yii2 Events//EN
BEGIN:VEVENT
UID:69e725ae7bc9c@drustvo-muc.si.eventure.si
DTSTAMP:20260421T072222Z
DTSTART:20250715T180000
DTEND:20250715T190000
SUMMARY:Redna brezplačna bobnarska delavnica
DESCRIPTION:Pridružite se naši brezplačni delavnici bobnanja za praktični študij ritma\, ki jo vodi Žiga. Uživajte v skupinski dinamiki in sprostitvi z zvokom.
LOCATION:MC Hotel Žalec\, Slovenia
URL:https://drustvo-muc.si.eventure.si/hr/event/redna-brezplacna-bobnarska-delavnica-8
END:VEVENT
END:VCALENDAR
