BEGIN:VCALENDAR
VERSION:2.0
PRODID:-//Yii2 Events//EN
BEGIN:VEVENT
UID:69e78ccb90116@drustvo-muc.si.eventure.si
DTSTAMP:20260421T144219Z
DTSTART:20250610T180000
DTEND:20250610T190000
SUMMARY:Redna brezplačna bobnarska delavnica
DESCRIPTION:Pridružite se redni brezplačni bobnarski delavnici z Žigo in izkusite praktični študij ritma. Odkrijte moč skupinskega igranja tolkal ter naučite se usklajevanja in izražanja skozi ritem. Prijave na: zum.muc@gmail.com.
LOCATION:MC Hotel Žalec\, Slovenia
URL:https://drustvo-muc.si.eventure.si/hr/event/redna-brezplacna-bobnarska-delavnica-3
END:VEVENT
END:VCALENDAR
