BEGIN:VCALENDAR
VERSION:2.0
PRODID:-//Yii2 Events//EN
BEGIN:VEVENT
UID:69e79b5f2e7a9@drustvo-muc.si.eventure.si
DTSTAMP:20260421T154431Z
DTSTART:20250718T090000
DTEND:20250720T160000
SUMMARY:✨ REBIRTHING ODDIH ✨
DESCRIPTION:Pridružite se Rebirthing oddihu od 18. do 20. julija v bližini Radovljice. Doživite globoke dihalne tehnike in povežite se z naravo.
LOCATION:Radovljica\, Slovenia
URL:https://drustvo-muc.si.eventure.si/hr/event/rebirthing-oddih
END:VEVENT
END:VCALENDAR
