BEGIN:VCALENDAR
VERSION:2.0
PRODID:-//Yii2 Events//EN
BEGIN:VEVENT
UID:69e7142393ae3@drustvo-muc.si.eventure.si
DTSTAMP:20260421T060731Z
DTSTART:20250802T160000
DTEND:20250802T210000
SUMMARY:POSTAVITEV NOTRANJE ŽENSKE IN MOŠKE ENERGIJE . IZKUSTVENA DELAVNICA 2.8. Radomlje
DESCRIPTION:Pridruži se nam 2. avgusta na delavnici o notranjih ženskih in moških energijah. Ugotovi ravnovesje in harmonijo v svojem življenju.
LOCATION:Terra Anima\, Opekarniška ulica 19a\, Slovenia
URL:https://drustvo-muc.si.eventure.si/hr/event/postavitev-notranje-zenske-in-moske-energije-izkustvena-delavnica-28-radomlje
END:VEVENT
END:VCALENDAR
