BEGIN:VCALENDAR
VERSION:2.0
PRODID:-//Yii2 Events//EN
BEGIN:VEVENT
UID:69e713f5b0efa@drustvo-muc.si.eventure.si
DTSTAMP:20260421T060645Z
DTSTART:20250909T180000
DTEND:20250909T200000
SUMMARY:PORTAL ZVOKA 9:9 zvočna kopel z gongi in kristali
DESCRIPTION:Pridružite se PORTALU ZVOKA 9:9\, zvočni kopeli z gongi in kristali. Izkušnja notranje transformacije 9. septembra 2025 v Portorožu.
LOCATION:Forma Viva LUCIJA/PORTOROŽ\, Slovenia
URL:https://drustvo-muc.si.eventure.si/hr/event/portal-zvoka-99-zvocna-kopel-z-gongi-in-kristali
END:VEVENT
END:VCALENDAR
