BEGIN:VCALENDAR
VERSION:2.0
PRODID:-//Yii2 Events//EN
BEGIN:VEVENT
UID:69e79b96cf0ff@drustvo-muc.si.eventure.si
DTSTAMP:20260421T154526Z
DTSTART:20250611T200000
DTEND:20250611T210000
SUMMARY:POLNA LUNA
DESCRIPTION:Zvočni obred in druženje ob polni luni.
LOCATION:Vrbje\, Slovenia
URL:https://drustvo-muc.si.eventure.si/hr/event/polna-luna
END:VEVENT
END:VCALENDAR
