BEGIN:VCALENDAR
VERSION:2.0
PRODID:-//Yii2 Events//EN
BEGIN:VEVENT
UID:69e6e9f7872af@drustvo-muc.si.eventure.si
DTSTAMP:20260421T030735Z
DTSTART:20250512T200000
DTEND:20250512T210000
SUMMARY:POLNA LUNA - zvočni obred in druženje
DESCRIPTION:Ljudska shamanika kreativa ob ognju.
LOCATION:Žalec\, Slovenia
URL:https://drustvo-muc.si.eventure.si/hr/event/polna-luna-zvo-ni-obred-in-dru-enje
END:VEVENT
END:VCALENDAR
