BEGIN:VCALENDAR
VERSION:2.0
PRODID:-//Yii2 Events//EN
BEGIN:VEVENT
UID:69e7b14e80a97@drustvo-muc.si.eventure.si
DTSTAMP:20260421T171806Z
DTSTART:20260201T180000
DTEND:20260201T190000
SUMMARY:🌕 POLNA LUNA 🌕
DESCRIPTION:Pridružite se našim polnolunarnim praznovanjem\, da se sprostite v nov lunin cikel s petjem\, ognjem in naravno povezanostjo.
LOCATION:Vrbje\, Slovenia
URL:https://drustvo-muc.si.eventure.si/hr/event/polna-luna-2
END:VEVENT
END:VCALENDAR
