BEGIN:VCALENDAR
VERSION:2.0
PRODID:-//Yii2 Events//EN
BEGIN:VEVENT
UID:69e72594b902f@drustvo-muc.si.eventure.si
DTSTAMP:20260421T072156Z
DTSTART:20251010T181500
DTEND:20251010T191500
SUMMARY:Online predavanje o blockchain tehnologijah in AI 💻🔗🤖
DESCRIPTION:Vabimo vas\, da se udeležite našega online predavanja o blockchain tehnologijah in umetni inteligenci. Ne zamudite te edinstvene priložnosti!
LOCATION:Spletni događaj
URL:https://drustvo-muc.si.eventure.si/hr/event/online-predavanje-o-blockchain-tehnologijah-in-ai
END:VEVENT
END:VCALENDAR
