BEGIN:VCALENDAR
VERSION:2.0
PRODID:-//Yii2 Events//EN
BEGIN:VEVENT
UID:69e736d266635@drustvo-muc.si.eventure.si
DTSTAMP:20260421T083530Z
DTSTART:20260319T203000
DTEND:20260319T213000
SUMMARY:Obred ob ognju - prazna luna
DESCRIPTION:Prazna luna nas nagovarja\, da se tudi mi spraznemo. S pomočjo ognja in namena bomo skurili\, vse kar je potrebno skurit tokrat. 
LOCATION:Vrbje\, Vrbensko jezero
URL:https://drustvo-muc.si.eventure.si/hr/event/obred-ob-ognju-prazna-luna
END:VEVENT
END:VCALENDAR
