BEGIN:VCALENDAR
VERSION:2.0
PRODID:-//Yii2 Events//EN
BEGIN:VEVENT
UID:69e7468c63282@drustvo-muc.si.eventure.si
DTSTAMP:20260421T094236Z
DTSTART:20251003T180000
DTEND:20251005T150000
SUMMARY:MOŠKI OBREDI PREHODA V CELOST
DESCRIPTION:Vikend posvečen obredom prehoda za moške\, ki povezujejo telo\, dušo in naravo. Odkrijte čarobnost skupnosti in celovitosti!
LOCATION:Radovljica\, Slovenia
URL:https://drustvo-muc.si.eventure.si/hr/event/moski-obredi-prehoda-v-celost
END:VEVENT
END:VCALENDAR
