BEGIN:VCALENDAR
VERSION:2.0
PRODID:-//Yii2 Events//EN
BEGIN:VEVENT
UID:69e7b36a102fd@drustvo-muc.si.eventure.si
DTSTAMP:20260421T172706Z
DTSTART:20250621T200000
DTEND:20250621T210000
SUMMARY: MI + TI = MITI
DESCRIPTION:Odkrijte bistvo pripovedovanja v predstavi MI + TI = MITI\, čustveni izkušnji\, ki jo je režiral Ajdin Huzejrović. Potovanje skozi miti\, ki odmevajo v nas.
LOCATION:Trgovinske vitrine spreminjamo v umetniška prizorišča: Kranj\, staro mestno jedro\, glavna ulica\, Fragmenti books@coffee / Prešernova ulica 14\, Kranj\, Slovenia
URL:https://drustvo-muc.si.eventure.si/hr/event/mi-ti-miti
END:VEVENT
END:VCALENDAR
