BEGIN:VCALENDAR
VERSION:2.0
PRODID:-//Yii2 Events//EN
BEGIN:VEVENT
UID:69e7c6ec7aa79@drustvo-muc.si.eventure.si
DTSTAMP:20260421T185020Z
DTSTART:20250214T183000
DTEND:20250214T193000
SUMMARY:Madre Selva - Koncert
DESCRIPTION:
LOCATION:Orfej Vrhnika\, Slovenia
URL:https://drustvo-muc.si.eventure.si/hr/event/madre-selva---koncert-228
END:VEVENT
END:VCALENDAR
