BEGIN:VCALENDAR
VERSION:2.0
PRODID:-//Yii2 Events//EN
BEGIN:VEVENT
UID:69e7cdc2af216@drustvo-muc.si.eventure.si
DTSTAMP:20260421T191930Z
DTSTART:20241109T170000
DTEND:20241109T180000
SUMMARY:Lada Center online srečanje 9.11.2024 ob 10h
DESCRIPTION:Pridružite se nam na brezplačnem srečanju Lada Center 9. novembra 2024 ob 10h. Spoznajte nove sodelavce\, izmenjajte ideje in izkušnje ter sodelujte v odprti diskusiji. Ne zamudite te edinstvene priložnosti za mreženje in osebno rast!
LOCATION:Spletni događaj
URL:https://drustvo-muc.si.eventure.si/hr/event/lada-center-online-srecanje-9112024-ob-10h
END:VEVENT
END:VCALENDAR
