BEGIN:VCALENDAR
VERSION:2.0
PRODID:-//Yii2 Events//EN
BEGIN:VEVENT
UID:69e70804a597c@drustvo-muc.si.eventure.si
DTSTAMP:20260421T051548Z
DTSTART:20250905T120000
DTEND:20250907T203000
SUMMARY:𝗘𝘅𝗽𝗮𝗻𝘀𝗶𝗼𝗻 𝗙𝗲𝘀𝘁𝗶𝘃𝗮𝗹 ~ JURKLOŠTER
DESCRIPTION:Trodnevno doživetje za iskalce resnice onkraj fasad. Povezovanje\, transformacija in praznovanje življenja na Expansion Festivalu.
LOCATION:Piknik plac Oaza Preske\, Slovenia
URL:https://drustvo-muc.si.eventure.si/hr/event/jurkloster
END:VEVENT
END:VCALENDAR
