BEGIN:VCALENDAR
VERSION:2.0
PRODID:-//Yii2 Events//EN
BEGIN:VEVENT
UID:69e7664106c79@drustvo-muc.si.eventure.si
DTSTAMP:20260421T115753Z
DTSTART:20250314T183000
DTEND:20250314T193000
SUMMARY:Joga za ravnovesje in zvočna gong kopel za popolno umiritev! 🧘‍♀️🕉️
DESCRIPTION:Vabljeni na edinstveno vodeno vadbe joge\, kjer bomo poudarili pomen notranjega ravnovesja\, krepili povezavo s Sebstvom in ustvarjali notranje okolje miru in stabilnosti.
LOCATION:Kozmetika Nina\, Cankarjeva ulica 80\, 4240 Radovljica \, Slovenia
URL:https://drustvo-muc.si.eventure.si/hr/event/joga-za-ravnovesje-in-zvocna-gong-kopel-za-popolno-umiritev
END:VEVENT
END:VCALENDAR
