BEGIN:VCALENDAR
VERSION:2.0
PRODID:-//Yii2 Events//EN
BEGIN:VEVENT
UID:69e6e98565d14@drustvo-muc.si.eventure.si
DTSTAMP:20260421T030541Z
DTSTART:20250419T180000
DTEND:20250419T190000
SUMMARY:Iniciacija Življenja
DESCRIPTION:
LOCATION:City Teater\, Slovenia
URL:https://drustvo-muc.si.eventure.si/hr/event/iniciacija-%C5%BEivljenja
END:VEVENT
END:VCALENDAR
